BEGIN:VCALENDAR
VERSION:2.0
PRODID:-//The Ola Grimsby Institute - ECPv5.0.2.1//NONSGML v1.0//EN
CALSCALE:GREGORIAN
METHOD:PUBLISH
X-WR-CALNAME:The Ola Grimsby Institute
X-ORIGINAL-URL:https://www.olagrimsby.com
X-WR-CALDESC:Events for The Ola Grimsby Institute
BEGIN:VTIMEZONE
TZID:America/Boise
BEGIN:DAYLIGHT
TZOFFSETFROM:-0700
TZOFFSETTO:-0600
TZNAME:MDT
DTSTART:20250309T090000
END:DAYLIGHT
BEGIN:STANDARD
TZOFFSETFROM:-0600
TZOFFSETTO:-0700
TZNAME:MST
DTSTART:20251102T080000
END:STANDARD
END:VTIMEZONE
BEGIN:VEVENT
DTSTART;TZID=America/Boise:20250206T080000
DTEND;TZID=America/Boise:20250208T170000
DTSTAMP:20260420T154929
CREATED:20250122T090024Z
LAST-MODIFIED:20250122T090024Z
UID:10181-1738828800-1739034000@www.olagrimsby.com
SUMMARY:MT5 Clinical Problem Solving (Seattle\, Washington)
DESCRIPTION:
URL:https://www.olagrimsby.com/event/mt5-clinical-problem-solving-seattle-washington/
LOCATION:IRG Physical & Hand Therapy\, 2821 NW Market St B\, Seattle\, WA\, 98107\, United States
END:VEVENT
END:VCALENDAR