BEGIN:VCALENDAR
VERSION:2.0
PRODID:-//The Ola Grimsby Institute - ECPv5.0.2.1//NONSGML v1.0//EN
CALSCALE:GREGORIAN
METHOD:PUBLISH
X-WR-CALNAME:The Ola Grimsby Institute
X-ORIGINAL-URL:https://www.olagrimsby.com
X-WR-CALDESC:Events for The Ola Grimsby Institute
BEGIN:VTIMEZONE
TZID:UTC
BEGIN:STANDARD
TZOFFSETFROM:+0000
TZOFFSETTO:+0000
TZNAME:UTC
DTSTART:20190101T000000
END:STANDARD
END:VTIMEZONE
BEGIN:VEVENT
DTSTART;TZID=UTC:20190511T080000
DTEND;TZID=UTC:20190512T170000
DTSTAMP:20260421T193759
CREATED:20190321T225122Z
LAST-MODIFIED:20190322T001013Z
UID:8354-1557561600-1557680400@www.olagrimsby.com
SUMMARY:MT9 Advanced Manipulation of the Spine (Chicago\, IL)
DESCRIPTION:Jojo Sayson’s Physical Therapy & Rehabilitation\, 586 William Latham Dr.\, Suites 3 & 4\, Boubannais\, Illinois\, 60914 \n
URL:https://www.olagrimsby.com/event/mt9-advanced-manipulation-spine-chicago-il/
END:VEVENT
BEGIN:VEVENT
DTSTART;TZID=UTC:20190511T080000
DTEND;TZID=UTC:20190512T170000
DTSTAMP:20260421T193759
CREATED:20190322T001149Z
LAST-MODIFIED:20190322T001229Z
UID:8356-1557561600-1557680400@www.olagrimsby.com
SUMMARY:MT7 Dynamic Soft Tissue Mobilization (Lake Stevens\, WA)
DESCRIPTION:9514 4th St. NE\, Suite 101\, Lake Stevens\, WA 98258 \n
URL:https://www.olagrimsby.com/event/mt7-dynamic-soft-tissue-mobilization-lake-stevens-wa/
END:VEVENT
END:VCALENDAR