BEGIN:VCALENDAR
VERSION:2.0
PRODID:-//The Ola Grimsby Institute - ECPv5.0.2.1//NONSGML v1.0//EN
CALSCALE:GREGORIAN
METHOD:PUBLISH
X-WR-CALNAME:The Ola Grimsby Institute
X-ORIGINAL-URL:https://www.olagrimsby.com
X-WR-CALDESC:Events for The Ola Grimsby Institute
BEGIN:VTIMEZONE
TZID:UTC
BEGIN:STANDARD
TZOFFSETFROM:+0000
TZOFFSETTO:+0000
TZNAME:UTC
DTSTART:20190101T000000
END:STANDARD
END:VTIMEZONE
BEGIN:VEVENT
DTSTART;TZID=UTC:20190622T080000
DTEND;TZID=UTC:20190623T170000
DTSTAMP:20260422T133320
CREATED:20190405T203244Z
LAST-MODIFIED:20190405T204236Z
UID:8384-1561190400-1561309200@www.olagrimsby.com
SUMMARY:STEP6 Upper Cervical\, TMJ\, Ocular Systems (Wilson\, North Carolina)
DESCRIPTION:Manual Physical Therapy Inc.\n3200 Nash St. N.\nWilson\, North Carolina 27896\n
URL:https://www.olagrimsby.com/event/step6-upper-cervical-tmj-ocular-systems-wilson-north-carolina/
CATEGORIES:STEP
END:VEVENT
END:VCALENDAR