BEGIN:VCALENDAR
VERSION:2.0
PRODID:-//The Ola Grimsby Institute - ECPv5.0.2.1//NONSGML v1.0//EN
CALSCALE:GREGORIAN
METHOD:PUBLISH
X-WR-CALNAME:The Ola Grimsby Institute
X-ORIGINAL-URL:https://www.olagrimsby.com
X-WR-CALDESC:Events for The Ola Grimsby Institute
BEGIN:VTIMEZONE
TZID:UTC
BEGIN:STANDARD
TZOFFSETFROM:+0000
TZOFFSETTO:+0000
TZNAME:UTC
DTSTART:20190101T000000
END:STANDARD
END:VTIMEZONE
BEGIN:VEVENT
DTSTART;TZID=UTC:20190504T080000
DTEND;TZID=UTC:20190505T170000
DTSTAMP:20260419T162912
CREATED:20190321T030339Z
LAST-MODIFIED:20190321T224824Z
UID:8341-1556956800-1557075600@www.olagrimsby.com
SUMMARY:STEP5 Cervical Spine (San Francisco\, CA)
DESCRIPTION:San Francisco\, California \nGoTHERX Physical Therapy and Sports Medicine of San Francisco – 2211 Bush St. 1st Floor\, San Francisco\, CA 94115 \n
URL:https://www.olagrimsby.com/event/step5-cervical-spine/
CATEGORIES:STEP
END:VEVENT
END:VCALENDAR