BEGIN:VCALENDAR
VERSION:2.0
PRODID:-//The Ola Grimsby Institute - ECPv5.0.2.1//NONSGML v1.0//EN
CALSCALE:GREGORIAN
METHOD:PUBLISH
X-WR-CALNAME:The Ola Grimsby Institute
X-ORIGINAL-URL:https://www.olagrimsby.com
X-WR-CALDESC:Events for The Ola Grimsby Institute
BEGIN:VTIMEZONE
TZID:UTC
BEGIN:STANDARD
TZOFFSETFROM:+0000
TZOFFSETTO:+0000
TZNAME:UTC
DTSTART:20190101T000000
END:STANDARD
END:VTIMEZONE
BEGIN:VEVENT
DTSTART;TZID=UTC:20190406T080000
DTEND;TZID=UTC:20190407T170000
DTSTAMP:20260420T002719
CREATED:20190321T024606Z
LAST-MODIFIED:20190321T224636Z
UID:8331-1554537600-1554656400@www.olagrimsby.com
SUMMARY:STEP4 Lumbar and Thoracic Spine (Wilson\, North Carolina)
DESCRIPTION:Wilson\, North Carolina \nManual Therapy Inc. – 3200 Nash St. N.\, Wilson\, North Carolina\, 27896 \n
URL:https://www.olagrimsby.com/event/step4-lumbar-thoracic-spine/
CATEGORIES:STEP
END:VEVENT
END:VCALENDAR