BEGIN:VCALENDAR
VERSION:2.0
PRODID:-//The Ola Grimsby Institute - ECPv5.0.2.1//NONSGML v1.0//EN
CALSCALE:GREGORIAN
METHOD:PUBLISH
X-WR-CALNAME:The Ola Grimsby Institute
X-ORIGINAL-URL:https://www.olagrimsby.com
X-WR-CALDESC:Events for The Ola Grimsby Institute
BEGIN:VTIMEZONE
TZID:UTC
BEGIN:STANDARD
TZOFFSETFROM:+0000
TZOFFSETTO:+0000
TZNAME:UTC
DTSTART:20200101T000000
END:STANDARD
END:VTIMEZONE
BEGIN:VEVENT
DTSTART;TZID=UTC:20200125T080000
DTEND;TZID=UTC:20200126T170000
DTSTAMP:20260425T150319
CREATED:20200107T183822Z
LAST-MODIFIED:20200107T184014Z
UID:8598-1579939200-1580058000@www.olagrimsby.com
SUMMARY:STEP1 Shoulder and Elbow (Phoenix\, AZ)
DESCRIPTION:
URL:https://www.olagrimsby.com/event/step1/
CATEGORIES:STEP
END:VEVENT
END:VCALENDAR