BEGIN:VCALENDAR
VERSION:2.0
PRODID:-//The Ola Grimsby Institute - ECPv5.0.2.1//NONSGML v1.0//EN
CALSCALE:GREGORIAN
METHOD:PUBLISH
X-WR-CALNAME:The Ola Grimsby Institute
X-ORIGINAL-URL:https://www.olagrimsby.com
X-WR-CALDESC:Events for The Ola Grimsby Institute
BEGIN:VTIMEZONE
TZID:America/Boise
BEGIN:DAYLIGHT
TZOFFSETFROM:-0700
TZOFFSETTO:-0600
TZNAME:MDT
DTSTART:20220313T090000
END:DAYLIGHT
BEGIN:STANDARD
TZOFFSETFROM:-0600
TZOFFSETTO:-0700
TZNAME:MST
DTSTART:20221106T080000
END:STANDARD
END:VTIMEZONE
BEGIN:VEVENT
DTSTART;TZID=America/Boise:20220514T080000
DTEND;TZID=America/Boise:20220515T170000
DTSTAMP:20260420T212533
CREATED:20220327T041338Z
LAST-MODIFIED:20220402T084129Z
UID:9577-1652515200-1652634000@www.olagrimsby.com
SUMMARY:STEP-1: Shoulder and Elbow (Bellevue\, Washington)
DESCRIPTION:
URL:https://www.olagrimsby.com/event/step-1-shoulder-and-elbow-bellevue-washington/
LOCATION:MTIPT • Bellevue\, Wa\, 1560 140th Ave NE Suite 100\, Bellevue\, WA\, 98005\, United States
END:VEVENT
END:VCALENDAR