BEGIN:VCALENDAR
VERSION:2.0
PRODID:-//The Ola Grimsby Institute - ECPv5.0.2.1//NONSGML v1.0//EN
CALSCALE:GREGORIAN
METHOD:PUBLISH
X-WR-CALNAME:The Ola Grimsby Institute
X-ORIGINAL-URL:https://www.olagrimsby.com
X-WR-CALDESC:Events for The Ola Grimsby Institute
BEGIN:VTIMEZONE
TZID:UTC
BEGIN:STANDARD
TZOFFSETFROM:+0000
TZOFFSETTO:+0000
TZNAME:UTC
DTSTART:20190101T000000
END:STANDARD
END:VTIMEZONE
BEGIN:VEVENT
DTSTART;TZID=UTC:20190427T080000
DTEND;TZID=UTC:20190428T170000
DTSTAMP:20260419T181546
CREATED:20190321T030159Z
LAST-MODIFIED:20190321T224806Z
UID:8339-1556352000-1556470800@www.olagrimsby.com
SUMMARY:MT9 Advanced Manipulation of the Spine (Seattle\, WA)
DESCRIPTION:Seattle\, Washington \n  \n
URL:https://www.olagrimsby.com/event/mt9-advanced-manipulation-spine/
CATEGORIES:COMT
END:VEVENT
END:VCALENDAR