BEGIN:VCALENDAR
VERSION:2.0
PRODID:-//The Ola Grimsby Institute - ECPv5.0.2.1//NONSGML v1.0//EN
CALSCALE:GREGORIAN
METHOD:PUBLISH
X-WR-CALNAME:The Ola Grimsby Institute
X-ORIGINAL-URL:https://www.olagrimsby.com
X-WR-CALDESC:Events for The Ola Grimsby Institute
BEGIN:VTIMEZONE
TZID:America/Boise
BEGIN:DAYLIGHT
TZOFFSETFROM:-0700
TZOFFSETTO:-0600
TZNAME:MDT
DTSTART:20260308T090000
END:DAYLIGHT
BEGIN:STANDARD
TZOFFSETFROM:-0600
TZOFFSETTO:-0700
TZNAME:MST
DTSTART:20261101T080000
END:STANDARD
END:VTIMEZONE
BEGIN:VEVENT
DTSTART;TZID=America/Boise:20260801T080000
DTEND;TZID=America/Boise:20260802T170000
DTSTAMP:20260424T142223
CREATED:20260331T203247Z
LAST-MODIFIED:20260331T203247Z
UID:10428-1785571200-1785690000@www.olagrimsby.com
SUMMARY:MT9 Advanced Manipulation of the Spine (Seattle\, Washington)
DESCRIPTION:
URL:https://www.olagrimsby.com/event/mt9-advanced-manipulation-of-the-spine-seattle-washington/
LOCATION:MTIPT\, First Hill\, 506 12th Ave\, Seattle\, WA\, 98122\, United States
END:VEVENT
END:VCALENDAR