BEGIN:VCALENDAR
VERSION:2.0
PRODID:-//The Ola Grimsby Institute - ECPv5.0.2.1//NONSGML v1.0//EN
CALSCALE:GREGORIAN
METHOD:PUBLISH
X-WR-CALNAME:The Ola Grimsby Institute
X-ORIGINAL-URL:https://www.olagrimsby.com
X-WR-CALDESC:Events for The Ola Grimsby Institute
BEGIN:VTIMEZONE
TZID:America/Boise
BEGIN:DAYLIGHT
TZOFFSETFROM:-0700
TZOFFSETTO:-0600
TZNAME:MDT
DTSTART:20250309T090000
END:DAYLIGHT
BEGIN:STANDARD
TZOFFSETFROM:-0600
TZOFFSETTO:-0700
TZNAME:MST
DTSTART:20251102T080000
END:STANDARD
END:VTIMEZONE
BEGIN:VEVENT
DTSTART;TZID=America/Boise:20251213T080000
DTEND;TZID=America/Boise:20251214T170000
DTSTAMP:20260424T111706
CREATED:20251210T092157Z
LAST-MODIFIED:20251210T092157Z
UID:10387-1765612800-1765731600@www.olagrimsby.com
SUMMARY:MT7: Dynamic Soft Tissue Mobilization (Des Plaines\, Illinois\, USA)
DESCRIPTION:
URL:https://www.olagrimsby.com/event/mt7-dynamic-soft-tissue-mobilization-des-plaines-illinois-usa/
LOCATION:MIDWEST MANUAL PHYSICAL THERAPY\, 1355 EAST GOLF ROAD\, SUITE 100\, DES PLAINES\, IL\, 60016\, United States
END:VEVENT
END:VCALENDAR