BEGIN:VCALENDAR
VERSION:2.0
PRODID:-//The Ola Grimsby Institute - ECPv5.0.2.1//NONSGML v1.0//EN
CALSCALE:GREGORIAN
METHOD:PUBLISH
X-WR-CALNAME:The Ola Grimsby Institute
X-ORIGINAL-URL:https://www.olagrimsby.com
X-WR-CALDESC:Events for The Ola Grimsby Institute
BEGIN:VTIMEZONE
TZID:UTC
BEGIN:STANDARD
TZOFFSETFROM:+0000
TZOFFSETTO:+0000
TZNAME:UTC
DTSTART:20190101T000000
END:STANDARD
END:VTIMEZONE
BEGIN:VEVENT
DTSTART;TZID=UTC:20191102T080000
DTEND;TZID=UTC:20191103T170000
DTSTAMP:20260423T025340
CREATED:20190724T202617Z
LAST-MODIFIED:20190724T202617Z
UID:8447-1572681600-1572800400@www.olagrimsby.com
SUMMARY:MT6 Introduction to Spinal Manipulation (Lake Stevens\, WA)
DESCRIPTION:
URL:https://www.olagrimsby.com/event/mt6-introduction-to-spinal-manipulation-lake-stevens-wa/
END:VEVENT
END:VCALENDAR