BEGIN:VCALENDAR
VERSION:2.0
PRODID:-//The Ola Grimsby Institute - ECPv5.0.2.1//NONSGML v1.0//EN
CALSCALE:GREGORIAN
METHOD:PUBLISH
X-WR-CALNAME:The Ola Grimsby Institute
X-ORIGINAL-URL:https://www.olagrimsby.com
X-WR-CALDESC:Events for The Ola Grimsby Institute
BEGIN:VTIMEZONE
TZID:UTC
BEGIN:STANDARD
TZOFFSETFROM:+0000
TZOFFSETTO:+0000
TZNAME:UTC
DTSTART:20200101T000000
END:STANDARD
END:VTIMEZONE
BEGIN:VEVENT
DTSTART;TZID=UTC:20200328T080000
DTEND;TZID=UTC:20200329T170000
DTSTAMP:20260426T001757
CREATED:20200107T180940Z
LAST-MODIFIED:20200327T160247Z
UID:8580-1585382400-1585501200@www.olagrimsby.com
SUMMARY:MT6 Introduction to Spinal Manipulation (Minneapolis\, MN) *CANCELLED*
DESCRIPTION:
URL:https://www.olagrimsby.com/event/mt6-introduction-to-spinal-manipulation-lake-stevens-wa-3/
END:VEVENT
END:VCALENDAR