BEGIN:VCALENDAR
VERSION:2.0
PRODID:-//The Ola Grimsby Institute - ECPv5.0.2.1//NONSGML v1.0//EN
CALSCALE:GREGORIAN
METHOD:PUBLISH
X-WR-CALNAME:The Ola Grimsby Institute
X-ORIGINAL-URL:https://www.olagrimsby.com
X-WR-CALDESC:Events for The Ola Grimsby Institute
BEGIN:VTIMEZONE
TZID:UTC
BEGIN:STANDARD
TZOFFSETFROM:+0000
TZOFFSETTO:+0000
TZNAME:UTC
DTSTART:20190101T000000
END:STANDARD
END:VTIMEZONE
BEGIN:VEVENT
DTSTART;TZID=UTC:20190622T080000
DTEND;TZID=UTC:20190623T170000
DTSTAMP:20260422T120732
CREATED:20190405T201045Z
LAST-MODIFIED:20190405T204252Z
UID:8382-1561190400-1561309200@www.olagrimsby.com
SUMMARY:MT6 Introduction to Spinal Manipulation (Vancouver\, CA)
DESCRIPTION:Aquarius Physiotherapy\nYaletown\, #218 – 179\nDavie St.\n
URL:https://www.olagrimsby.com/event/mt6-introduction-spinal-manipulation-vancouver-ca/
CATEGORIES:COMT
END:VEVENT
END:VCALENDAR