BEGIN:VCALENDAR
VERSION:2.0
PRODID:-//The Ola Grimsby Institute - ECPv5.0.2.1//NONSGML v1.0//EN
CALSCALE:GREGORIAN
METHOD:PUBLISH
X-WR-CALNAME:The Ola Grimsby Institute
X-ORIGINAL-URL:https://www.olagrimsby.com
X-WR-CALDESC:Events for The Ola Grimsby Institute
BEGIN:VTIMEZONE
TZID:America/Boise
BEGIN:DAYLIGHT
TZOFFSETFROM:-0700
TZOFFSETTO:-0600
TZNAME:MDT
DTSTART:20220313T090000
END:DAYLIGHT
BEGIN:STANDARD
TZOFFSETFROM:-0600
TZOFFSETTO:-0700
TZNAME:MST
DTSTART:20221106T080000
END:STANDARD
END:VTIMEZONE
BEGIN:VEVENT
DTSTART;TZID=America/Boise:20220521T080000
DTEND;TZID=America/Boise:20220522T170000
DTSTAMP:20260420T195640
CREATED:20220225T055022Z
LAST-MODIFIED:20220226T083719Z
UID:9533-1653120000-1653238800@www.olagrimsby.com
SUMMARY:MT3: Manual Therapy of the Lumbar Spine\, Pelvis and Lower Extremity
DESCRIPTION:
URL:https://www.olagrimsby.com/event/mt3-manual-therapy-of-the-lumbar-spine-pelvis-and-lower-extremity/
LOCATION:Chicago\, Illinois\, 1355 East Golf Road\, Suite 100\, Des Plaines\, IL\, 60016\, United States
ORGANIZER;CN="MIDWEST%20MANUAL%20PHYSICAL%20THERAPY":MAILTO:TMOLLSEN@MIDWESTMPT.COM
END:VEVENT
END:VCALENDAR