BEGIN:VCALENDAR
VERSION:2.0
PRODID:-//The Ola Grimsby Institute - ECPv5.0.2.1//NONSGML v1.0//EN
CALSCALE:GREGORIAN
METHOD:PUBLISH
X-WR-CALNAME:The Ola Grimsby Institute
X-ORIGINAL-URL:https://www.olagrimsby.com
X-WR-CALDESC:Events for The Ola Grimsby Institute
BEGIN:VTIMEZONE
TZID:UTC
BEGIN:STANDARD
TZOFFSETFROM:+0000
TZOFFSETTO:+0000
TZNAME:UTC
DTSTART:20200101T000000
END:STANDARD
END:VTIMEZONE
BEGIN:VEVENT
DTSTART;TZID=UTC:20200215T080000
DTEND;TZID=UTC:20200216T170000
DTSTAMP:20260425T163116
CREATED:20200107T180444Z
LAST-MODIFIED:20200107T180636Z
UID:8573-1581753600-1581872400@www.olagrimsby.com
SUMMARY:MT3 Lumbar Spine\, Pelvis and Lower Extremity (Chicago\, IL)
DESCRIPTION:
URL:https://www.olagrimsby.com/event/mt3-lumbar-spine-pelvis-and-lower-extremity-seattle-wa-2/
END:VEVENT
END:VCALENDAR