BEGIN:VCALENDAR
VERSION:2.0
PRODID:-//The Ola Grimsby Institute - ECPv5.0.2.1//NONSGML v1.0//EN
CALSCALE:GREGORIAN
METHOD:PUBLISH
X-WR-CALNAME:The Ola Grimsby Institute
X-ORIGINAL-URL:https://www.olagrimsby.com
X-WR-CALDESC:Events for The Ola Grimsby Institute
BEGIN:VTIMEZONE
TZID:UTC
BEGIN:STANDARD
TZOFFSETFROM:+0000
TZOFFSETTO:+0000
TZNAME:UTC
DTSTART:20190101T000000
END:STANDARD
END:VTIMEZONE
BEGIN:VEVENT
DTSTART;TZID=UTC:20190608T080000
DTEND;TZID=UTC:20190609T170000
DTSTAMP:20260422T085916
CREATED:20190405T200759Z
LAST-MODIFIED:20190405T204322Z
UID:8377-1559980800-1560099600@www.olagrimsby.com
SUMMARY:MT2 Cervical Spine\, TMJ\, Upper Extremity (San Francisco\, CA)
DESCRIPTION:Go THERx Physical Therapy and Sports Medicine of San Francisco\n2211 Bush St. 1st floor\nSan Francisco\, CA 94115\n
URL:https://www.olagrimsby.com/event/mt2-cervical-spine-tmj-upper-extremity-2/
CATEGORIES:COMT
END:VEVENT
END:VCALENDAR