BEGIN:VCALENDAR
VERSION:2.0
PRODID:-//The Ola Grimsby Institute - ECPv5.0.2.1//NONSGML v1.0//EN
CALSCALE:GREGORIAN
METHOD:PUBLISH
X-WR-CALNAME:The Ola Grimsby Institute
X-ORIGINAL-URL:https://www.olagrimsby.com
X-WR-CALDESC:Events for The Ola Grimsby Institute
BEGIN:VTIMEZONE
TZID:America/Boise
BEGIN:DAYLIGHT
TZOFFSETFROM:-0700
TZOFFSETTO:-0600
TZNAME:MDT
DTSTART:20220313T090000
END:DAYLIGHT
BEGIN:STANDARD
TZOFFSETFROM:-0600
TZOFFSETTO:-0700
TZNAME:MST
DTSTART:20221106T080000
END:STANDARD
END:VTIMEZONE
BEGIN:VEVENT
DTSTART;TZID=America/Boise:20220611T080000
DTEND;TZID=America/Boise:20220612T170000
DTSTAMP:20260420T182104
CREATED:20220520T065537Z
LAST-MODIFIED:20220520T065537Z
UID:9641-1654934400-1655053200@www.olagrimsby.com
SUMMARY:MT1: Clinical and Scientific Rationale for Modern Manual Therapy (Prescott)
DESCRIPTION:
URL:https://www.olagrimsby.com/event/mt1-clinical-and-scientific-rationale-for-modern-manual-therapy-prescott/
LOCATION:Center for Physical Excellence\, 3117 Stillwater Drive\, Prescott\, AZ\, 86305\, United States
END:VEVENT
END:VCALENDAR