BEGIN:VCALENDAR
VERSION:2.0
PRODID:-//The Ola Grimsby Institute - ECPv5.0.2.1//NONSGML v1.0//EN
CALSCALE:GREGORIAN
METHOD:PUBLISH
X-WR-CALNAME:The Ola Grimsby Institute
X-ORIGINAL-URL:https://www.olagrimsby.com
X-WR-CALDESC:Events for The Ola Grimsby Institute
BEGIN:VTIMEZONE
TZID:America/Boise
BEGIN:DAYLIGHT
TZOFFSETFROM:-0700
TZOFFSETTO:-0600
TZNAME:MDT
DTSTART:20220313T090000
END:DAYLIGHT
BEGIN:STANDARD
TZOFFSETFROM:-0600
TZOFFSETTO:-0700
TZNAME:MST
DTSTART:20221106T080000
END:STANDARD
END:VTIMEZONE
BEGIN:VEVENT
DTSTART;TZID=America/Boise:20220716T080000
DTEND;TZID=America/Boise:20220717T170000
DTSTAMP:20260420T165558
CREATED:20220110T121159Z
LAST-MODIFIED:20220110T121159Z
UID:9461-1657958400-1658077200@www.olagrimsby.com
SUMMARY:Memorial Healthcare System - MT7 Dynamic Soft Tissue Mobilization
DESCRIPTION:
URL:https://www.olagrimsby.com/event/memorial-healthcare-system-mt7-dynamic-soft-tissue-mobilization/
LOCATION:Hollywood\, Florida\, 300 Hollywood Way\, Hollywood\, FL\, 33021\, United States
END:VEVENT
END:VCALENDAR