BEGIN:VCALENDAR
VERSION:2.0
PRODID:-//The Ola Grimsby Institute - ECPv5.0.2.1//NONSGML v1.0//EN
CALSCALE:GREGORIAN
METHOD:PUBLISH
X-WR-CALNAME:The Ola Grimsby Institute
X-ORIGINAL-URL:https://www.olagrimsby.com
X-WR-CALDESC:Events for The Ola Grimsby Institute
BEGIN:VTIMEZONE
TZID:America/Boise
BEGIN:DAYLIGHT
TZOFFSETFROM:-0700
TZOFFSETTO:-0600
TZNAME:MDT
DTSTART:20220313T090000
END:DAYLIGHT
BEGIN:STANDARD
TZOFFSETFROM:-0600
TZOFFSETTO:-0700
TZNAME:MST
DTSTART:20221106T080000
END:STANDARD
END:VTIMEZONE
BEGIN:VEVENT
DTSTART;TZID=America/Boise:20220924T080000
DTEND;TZID=America/Boise:20220925T170000
DTSTAMP:20260420T105213
CREATED:20220110T121039Z
LAST-MODIFIED:20220219T104753Z
UID:9459-1664006400-1664125200@www.olagrimsby.com
SUMMARY:Memorial Healthcare System - MT6 Introduction to Spinal Manipulation
DESCRIPTION:
URL:https://www.olagrimsby.com/event/memorial-healthcare-system-mt6-introduction-to-spinal-manipulation/
LOCATION:Hollywood\, Florida\, 300 Hollywood Way\, Hollywood\, FL\, 33021\, United States
END:VEVENT
END:VCALENDAR