BEGIN:VCALENDAR
VERSION:2.0
PRODID:-//The Ola Grimsby Institute - ECPv5.0.2.1//NONSGML v1.0//EN
CALSCALE:GREGORIAN
METHOD:PUBLISH
X-WR-CALNAME:The Ola Grimsby Institute
X-ORIGINAL-URL:https://www.olagrimsby.com
X-WR-CALDESC:Events for The Ola Grimsby Institute
BEGIN:VTIMEZONE
TZID:America/Boise
BEGIN:DAYLIGHT
TZOFFSETFROM:-0700
TZOFFSETTO:-0600
TZNAME:MDT
DTSTART:20220313T090000
END:DAYLIGHT
BEGIN:STANDARD
TZOFFSETFROM:-0600
TZOFFSETTO:-0700
TZNAME:MST
DTSTART:20221106T080000
END:STANDARD
END:VTIMEZONE
BEGIN:VEVENT
DTSTART;TZID=America/Boise:20220326T080000
DTEND;TZID=America/Boise:20220327T170000
DTSTAMP:20260421T034134
CREATED:20211104T125748Z
LAST-MODIFIED:20211206T131551Z
UID:9228-1648281600-1648400400@www.olagrimsby.com
SUMMARY:Introduction to Spinal Manipulation (MT6)
DESCRIPTION:
URL:https://www.olagrimsby.com/event/introduction-to-spinal-manipulation-mt6/
LOCATION:North Pole\, Alaska\, USA\, North Pole\, AK\, United States
END:VEVENT
END:VCALENDAR